BEGIN:VCALENDAR
VERSION:2.0
CALSCALE:GREGORIAN
PRODID:adamgibbons/ics
METHOD:PUBLISH
X-PUBLISHED-TTL:PT1H
BEGIN:VEVENT
UID:291@tucsontimeline.info
SUMMARY:A musical performance by bands Burial Mask\, Googles and Forget Mac
	hine
DTSTAMP:20260423T063638Z
DTSTART:20250523T140000Z
DTEND:20250523T180000Z
DESCRIPTION:Doors at 7:00PM and Music at 7:15PM Friday night.\n\nA musical 
	performance by bands Burial Mask\, Googles and Forget Machine at Salt\nof 
	the Earth Labor College.
URL:https://tucsontimeline.info/event/a-musical-performance-by-bands-burial
	-mask-googles-and-forget-machine
LOCATION:Salt of the Earth Labor College - 1902 E. Irene Vista\, Tucson AZ 
	85713
STATUS:CONFIRMED
CATEGORIES:
X-ALT-DESC;FMTTYPE=text/html:<p>Doors at 7:00PM and Music at 7:15PM Friday 
	night. </p><p>A musical performance by bands Burial Mask, Googles and Forg
	et Machine at Salt of the Earth Labor College. </p>
END:VEVENT
BEGIN:VEVENT
UID:230@tucsontimeline.info
SUMMARY:Know your Rights training from National Lawyers Guild
DTSTAMP:20260423T063638Z
DTSTART:20250329T210000Z
DTEND:20250329T230000Z
DESCRIPTION:Know Your Rights Training from the National Lawyers.\n\nOpen to
	 all Tucson activists\, protestors and anyone ready to fight back against\
	nthe increasing tide of police violence\, government repression of politic
	al\nactivism\, and criminalization of protest.\n\nLearn how to protect you
	rself legally during protests and direct actions\, and\nduring immigration
	 enforcement sweeps.
URL:https://tucsontimeline.info/event/know-your-rights-training-from-nation
	al-lawyers-guild
LOCATION:Salt of the Earth Labor College - 1902 E. Irene Vista\, Tucson AZ 
	85713
STATUS:CONFIRMED
CATEGORIES:
X-ALT-DESC;FMTTYPE=text/html:<p>Know Your Rights Training from the National
	 Lawyers.</p><p>Open to all Tucson activists, protestors and anyone ready 
	to fight back against the increasing tide of police violence, government r
	epression of political activism, and criminalization of protest.</p><p>Lea
	rn how to protect yourself legally during protests and direct actions, and
	 during immigration enforcement sweeps.</p>
END:VEVENT
BEGIN:VEVENT
UID:229@tucsontimeline.info
SUMMARY:Burial Mask\, Forget Machine and Skin Theory at Salt of the Earth
DTSTAMP:20260423T063638Z
DTSTART:20250329T020000Z
DTEND:20250329T053000Z
DESCRIPTION:Come enjoy a live performance by local bands Burial Mask\, Forg
	et Machine and\,\nSkin Theory.\n\nAll welcome to enjoy a shoegaze-influenc
	ed lineup of young and up and coming\nTucson artists.\n\nAll donations go 
	directly to support the artists and musicians.
URL:https://tucsontimeline.info/event/burial-mask-forget-machine-and-skin-t
	heory-at-salt-of-the-earth
LOCATION:Salt of the Earth Labor College - 1902 E. Irene Vista\, Tucson AZ 
	85713
STATUS:CONFIRMED
CATEGORIES:
X-ALT-DESC;FMTTYPE=text/html:<p></p><p>Come enjoy a live performance by loc
	al bands Burial Mask, Forget Machine and, Skin Theory.</p><p>All welcome t
	o enjoy a shoegaze-influenced lineup of young and up and coming Tucson art
	ists.</p><p>All donations go directly to support the artists and musicians
	.</p>
END:VEVENT
BEGIN:VEVENT
UID:41@tucsontimeline.info
SUMMARY:Latin American Revolutionary Music
DTSTAMP:20260423T063638Z
DTSTART:20241005T210000Z
DTEND:20241005T220000Z
DESCRIPTION:Presentation by Rebeca Cartes\, longtime musical artist and soc
	ial activist. Born\nand raised in Chile\, Cartes brought along both her re
	volutionary music and\npolitics to Tucson. For several decades she has exp
	lored the music and culture\nof resistance taking place throughout the con
	tinent.
URL:https://tucsontimeline.info/event/latin-american-revolutionary-music
LOCATION:Salt of the Earth Labor College - 1902 E. Irene Vista\, Tucson AZ 
	85713
STATUS:CONFIRMED
CATEGORIES:activism,music,presentation
X-ALT-DESC;FMTTYPE=text/html:<p><strong>Presentation by Rebeca Cartes, long
	time musical artist and social activist. </strong>Born and raised in Chile
	, Cartes brought along both her revolutionary music and politics to Tucson
	. For several decades she has explored the music and culture of resistance
	 taking place throughout the continent.</p>
END:VEVENT
END:VCALENDAR
